Package: curatedAdipoChIP Version: 1.25.0 Command: /home/biocbuild/bbs-3.22-bioc/R/bin/R CMD INSTALL curatedAdipoChIP StartedAt: 2025-07-08 11:00:30 -0400 (Tue, 08 Jul 2025) EndedAt: 2025-07-08 11:00:55 -0400 (Tue, 08 Jul 2025) EllapsedTime: 25.2 seconds RetCode: 0 Status: OK