Package: curatedAdipoRNA Version: 1.25.0 Command: /home/biocbuild/bbs-3.22-bioc/R/bin/R CMD build --keep-empty-dirs --no-resave-data curatedAdipoRNA StartedAt: 2025-07-10 11:12:19 -0400 (Thu, 10 Jul 2025) EndedAt: 2025-07-10 11:13:44 -0400 (Thu, 10 Jul 2025) EllapsedTime: 85.3 seconds RetCode: 0 Status: OK PackageFile: curatedAdipoRNA_1.25.0.tar.gz PackageFileSize: 5.586 MiB