Package: curatedAdipoRNA Version: 1.25.0 Command: /home/biocbuild/bbs-3.22-bioc/R/bin/R CMD INSTALL curatedAdipoRNA StartedAt: 2025-07-10 11:02:09 -0400 (Thu, 10 Jul 2025) EndedAt: 2025-07-10 11:02:32 -0400 (Thu, 10 Jul 2025) EllapsedTime: 22.5 seconds RetCode: 0 Status: OK