Package: curatedBladderData Version: 1.45.0 Command: /home/biocbuild/bbs-3.22-bioc/R/bin/R CMD INSTALL curatedBladderData StartedAt: 2025-07-08 10:56:16 -0400 (Tue, 08 Jul 2025) EndedAt: 2025-07-08 10:56:19 -0400 (Tue, 08 Jul 2025) EllapsedTime: 3.4 seconds RetCode: 0 Status: OK