Package: curatedBreastData Version: 2.39.0 Command: /home/biocbuild/bbs-3.23-bioc/R/bin/R CMD INSTALL curatedBreastData StartedAt: 2025-11-06 10:57:51 -0500 (Thu, 06 Nov 2025) EndedAt: 2025-11-06 10:57:59 -0500 (Thu, 06 Nov 2025) EllapsedTime: 7.5 seconds RetCode: 0 Status: OK