Package: curatedBreastData Version: 2.37.0 Command: /home/biocbuild/bbs-3.22-bioc/R/bin/R CMD INSTALL curatedBreastData StartedAt: 2025-07-08 10:57:54 -0400 (Tue, 08 Jul 2025) EndedAt: 2025-07-08 10:58:00 -0400 (Tue, 08 Jul 2025) EllapsedTime: 6.1 seconds RetCode: 0 Status: OK