Package: curatedCRCData Version: 2.41.1 Maintainer: Princy Parsana MaintainerEmail: princyparsana at jhu.edu git_url: https://git.bioconductor.org/packages/curatedCRCData git_branch: devel git_last_commit: 8a756da git_last_commit_date: 2025-06-20 10:17:19 -0400 (Fri, 20 Jun 2025)