Package: curatedCRCData Version: 2.41.1 Command: /home/biocbuild/bbs-3.22-bioc/R/bin/R CMD INSTALL curatedCRCData StartedAt: 2025-07-08 10:56:28 -0400 (Tue, 08 Jul 2025) EndedAt: 2025-07-08 10:56:41 -0400 (Tue, 08 Jul 2025) EllapsedTime: 12.8 seconds RetCode: 0 Status: OK