Package: curatedOvarianData Version: 1.47.2 Maintainer: Levi Waldron MaintainerEmail: lwaldron.research at gmail.com git_url: https://git.bioconductor.org/packages/curatedOvarianData git_branch: devel git_last_commit: e5f2a11 git_last_commit_date: 2025-05-05 16:56:03 -0400 (Mon, 05 May 2025)