Package: curatedOvarianData Version: 1.49.0 Command: /home/biocbuild/bbs-3.23-bioc/R/bin/R CMD build --keep-empty-dirs --no-resave-data curatedOvarianData StartedAt: 2025-10-30 11:11:02 -0400 (Thu, 30 Oct 2025) EndedAt: 2025-10-30 11:13:28 -0400 (Thu, 30 Oct 2025) EllapsedTime: 145.6 seconds RetCode: 0 Status: OK PackageFile: curatedOvarianData_1.49.0.tar.gz PackageFileSize: 381.3 MiB