Package: curatedOvarianData Version: 1.49.0 Command: /home/biocbuild/bbs-3.23-bioc/R/bin/R CMD INSTALL curatedOvarianData StartedAt: 2025-10-30 10:56:36 -0400 (Thu, 30 Oct 2025) EndedAt: 2025-10-30 10:56:44 -0400 (Thu, 30 Oct 2025) EllapsedTime: 8.3 seconds RetCode: 0 Status: OK