Package: curatedOvarianData Version: 1.47.2 Command: /home/biocbuild/bbs-3.22-bioc/R/bin/R CMD INSTALL curatedOvarianData StartedAt: 2025-07-08 10:56:29 -0400 (Tue, 08 Jul 2025) EndedAt: 2025-07-08 10:56:42 -0400 (Tue, 08 Jul 2025) EllapsedTime: 12.4 seconds RetCode: 0 Status: OK