Package: curatedPCaData Version: 1.5.0 Command: /home/biocbuild/bbs-3.22-bioc/R/bin/R CMD build --keep-empty-dirs --no-resave-data curatedPCaData StartedAt: 2025-07-08 11:12:25 -0400 (Tue, 08 Jul 2025) EndedAt: 2025-07-08 11:18:47 -0400 (Tue, 08 Jul 2025) EllapsedTime: 382.3 seconds RetCode: 0 Status: OK PackageFile: curatedPCaData_1.5.0.tar.gz PackageFileSize: 2.937 MiB