Package: curatedTBData Version: 2.5.0 Command: /home/biocbuild/bbs-3.22-bioc/R/bin/R CMD build --keep-empty-dirs --no-resave-data curatedTBData StartedAt: 2025-07-08 11:12:59 -0400 (Tue, 08 Jul 2025) EndedAt: 2025-07-08 11:15:38 -0400 (Tue, 08 Jul 2025) EllapsedTime: 158.1 seconds RetCode: 0 Status: OK PackageFile: curatedTBData_2.5.0.tar.gz PackageFileSize: 361.3 KiB