Package: curatedTBData Version: 2.5.0 Command: /home/biocbuild/bbs-3.22-bioc/R/bin/R CMD INSTALL curatedTBData StartedAt: 2025-07-08 10:59:17 -0400 (Tue, 08 Jul 2025) EndedAt: 2025-07-08 10:59:45 -0400 (Tue, 08 Jul 2025) EllapsedTime: 27.7 seconds RetCode: 0 Status: OK