Package: curatedTCGAData Version: 1.33.0 Command: /home/biocbuild/bbs-3.23-bioc/R/bin/R CMD INSTALL curatedTCGAData StartedAt: 2025-10-30 10:59:23 -0400 (Thu, 30 Oct 2025) EndedAt: 2025-10-30 10:59:51 -0400 (Thu, 30 Oct 2025) EllapsedTime: 27.6 seconds RetCode: 0 Status: OK