Package: curatedTCGAData Version: 1.31.1 Command: /home/biocbuild/bbs-3.22-bioc/R/bin/R CMD build --keep-empty-dirs --no-resave-data curatedTCGAData StartedAt: 2025-07-08 11:13:11 -0400 (Tue, 08 Jul 2025) EndedAt: 2025-07-08 11:14:28 -0400 (Tue, 08 Jul 2025) EllapsedTime: 77.0 seconds RetCode: 0 Status: OK PackageFile: curatedTCGAData_1.31.1.tar.gz PackageFileSize: 416.7 KiB