Package: curatedTCGAData Version: 1.31.1 Command: /home/biocbuild/bbs-3.22-bioc/R/bin/R CMD INSTALL curatedTCGAData StartedAt: 2025-07-08 10:59:21 -0400 (Tue, 08 Jul 2025) EndedAt: 2025-07-08 10:59:49 -0400 (Tue, 08 Jul 2025) EllapsedTime: 27.1 seconds RetCode: 0 Status: OK