Package: davidTiling Version: 1.49.0 Command: /home/biocbuild/bbs-3.22-bioc/R/bin/R CMD build --keep-empty-dirs --no-resave-data davidTiling StartedAt: 2025-07-08 11:14:07 -0400 (Tue, 08 Jul 2025) EndedAt: 2025-07-08 11:15:09 -0400 (Tue, 08 Jul 2025) EllapsedTime: 61.4 seconds RetCode: 0 Status: OK PackageFile: davidTiling_1.49.0.tar.gz PackageFileSize: 537.7 MiB