Package: davidTiling Version: 1.49.0 Command: /home/biocbuild/bbs-3.22-bioc/R/bin/R CMD check --install=check:davidTiling.install-out.txt --library=/home/biocbuild/bbs-3.22-bioc/R/site-library --timings davidTiling_1.49.0.tar.gz StartedAt: 2025-07-15 12:10:13 -0400 (Tue, 15 Jul 2025) EndedAt: 2025-07-15 12:14:21 -0400 (Tue, 15 Jul 2025) EllapsedTime: 247.4 seconds RetCode: 0 Status: WARNINGS CheckDir: davidTiling.Rcheck Warnings: 1