Package: davidTiling Version: 1.49.0 Command: /home/biocbuild/bbs-3.22-bioc/R/bin/R CMD INSTALL davidTiling StartedAt: 2025-07-08 10:57:38 -0400 (Tue, 08 Jul 2025) EndedAt: 2025-07-08 10:58:29 -0400 (Tue, 08 Jul 2025) EllapsedTime: 51.1 seconds RetCode: 0 Status: OK