Package: depmap Version: 1.23.0 Command: /home/biocbuild/bbs-3.22-bioc/R/bin/R CMD build --keep-empty-dirs --no-resave-data depmap StartedAt: 2025-07-08 11:14:23 -0400 (Tue, 08 Jul 2025) EndedAt: 2025-07-08 11:23:23 -0400 (Tue, 08 Jul 2025) EllapsedTime: 539.9 seconds RetCode: 0 Status: OK PackageFile: depmap_1.23.0.tar.gz PackageFileSize: 1.558 MiB