Package: derfinderData Version: 2.27.0 Command: /home/biocbuild/bbs-3.22-bioc/R/bin/R CMD build --keep-empty-dirs --no-resave-data derfinderData StartedAt: 2025-07-10 11:15:19 -0400 (Thu, 10 Jul 2025) EndedAt: 2025-07-10 11:15:26 -0400 (Thu, 10 Jul 2025) EllapsedTime: 7.3 seconds RetCode: 0 Status: OK PackageFile: derfinderData_2.27.0.tar.gz PackageFileSize: 25.57 MiB