Package: diffloopdata Version: 1.37.0 Command: /home/biocbuild/bbs-3.22-bioc/R/bin/R CMD build --keep-empty-dirs --no-resave-data diffloopdata StartedAt: 2025-07-08 11:14:43 -0400 (Tue, 08 Jul 2025) EndedAt: 2025-07-08 11:14:54 -0400 (Tue, 08 Jul 2025) EllapsedTime: 10.9 seconds RetCode: 0 Status: OK PackageFile: diffloopdata_1.37.0.tar.gz PackageFileSize: 11.08 MiB