Package: diffloopdata Version: 1.37.0 Command: /home/biocbuild/bbs-3.22-bioc/R/bin/R CMD INSTALL diffloopdata StartedAt: 2025-07-08 10:55:26 -0400 (Tue, 08 Jul 2025) EndedAt: 2025-07-08 10:55:28 -0400 (Tue, 08 Jul 2025) EllapsedTime: 2.2 seconds RetCode: 0 Status: OK