Package: diggitdata Version: 1.41.0 Command: /home/biocbuild/bbs-3.22-bioc/R/bin/R CMD INSTALL diggitdata StartedAt: 2025-07-08 10:57:54 -0400 (Tue, 08 Jul 2025) EndedAt: 2025-07-08 10:58:01 -0400 (Tue, 08 Jul 2025) EllapsedTime: 6.5 seconds RetCode: 0 Status: OK