Package: dominatRData Version: 0.99.1 Command: /home/biocbuild/bbs-3.23-bioc/R/bin/R CMD build --keep-empty-dirs --no-resave-data dominatRData StartedAt: 2025-11-20 11:15:34 -0500 (Thu, 20 Nov 2025) EndedAt: 2025-11-20 11:15:38 -0500 (Thu, 20 Nov 2025) EllapsedTime: 4.0 seconds RetCode: 0 Status: OK PackageFile: dominatRData_0.99.1.tar.gz PackageFileSize: 728.1 KiB