Package: dorothea Version: 1.21.0 Command: /home/biocbuild/bbs-3.22-bioc/R/bin/R CMD INSTALL dorothea StartedAt: 2025-07-10 10:56:27 -0400 (Thu, 10 Jul 2025) EndedAt: 2025-07-10 10:57:11 -0400 (Thu, 10 Jul 2025) EllapsedTime: 44.5 seconds RetCode: 0 Status: OK