Package: dressCheck Version: 0.47.0 Command: /home/biocbuild/bbs-3.22-bioc/R/bin/R CMD build --keep-empty-dirs --no-resave-data dressCheck StartedAt: 2025-07-10 11:16:03 -0400 (Thu, 10 Jul 2025) EndedAt: 2025-07-10 11:16:27 -0400 (Thu, 10 Jul 2025) EllapsedTime: 24.3 seconds RetCode: 0 Status: OK PackageFile: dressCheck_0.47.0.tar.gz PackageFileSize: 65.75 MiB