Package: dressCheck Version: 0.47.0 Command: /home/biocbuild/bbs-3.22-bioc/R/bin/R CMD INSTALL dressCheck StartedAt: 2025-07-10 10:56:13 -0400 (Thu, 10 Jul 2025) EndedAt: 2025-07-10 10:56:25 -0400 (Thu, 10 Jul 2025) EllapsedTime: 12.4 seconds RetCode: 0 Status: OK