Package: dyebiasexamples Version: 1.51.0 Command: /home/biocbuild/bbs-3.23-bioc/R/bin/R CMD INSTALL dyebiasexamples StartedAt: 2025-11-25 11:00:09 -0500 (Tue, 25 Nov 2025) EndedAt: 2025-11-25 11:00:32 -0500 (Tue, 25 Nov 2025) EllapsedTime: 23.2 seconds RetCode: 0 Status: OK