Package: dyebiasexamples Version: 1.49.0 Command: /home/biocbuild/bbs-3.22-bioc/R/bin/R CMD build --keep-empty-dirs --no-resave-data dyebiasexamples StartedAt: 2025-07-10 11:16:27 -0400 (Thu, 10 Jul 2025) EndedAt: 2025-07-10 11:16:35 -0400 (Thu, 10 Jul 2025) EllapsedTime: 7.3 seconds RetCode: 0 Status: OK PackageFile: dyebiasexamples_1.49.0.tar.gz PackageFileSize: 15.2 MiB