Package: dyebiasexamples Version: 1.49.0 Command: /home/biocbuild/bbs-3.22-bioc/R/bin/R CMD INSTALL dyebiasexamples StartedAt: 2025-07-10 11:00:09 -0400 (Thu, 10 Jul 2025) EndedAt: 2025-07-10 11:00:37 -0400 (Thu, 10 Jul 2025) EllapsedTime: 27.5 seconds RetCode: 0 Status: OK