Package: easierData Version: 1.15.0 Command: /home/biocbuild/bbs-3.22-bioc/R/bin/R CMD check --install=check:easierData.install-out.txt --library=/home/biocbuild/bbs-3.22-bioc/R/site-library --timings easierData_1.15.0.tar.gz StartedAt: 2025-07-15 12:15:23 -0400 (Tue, 15 Jul 2025) EndedAt: 2025-07-15 12:19:11 -0400 (Tue, 15 Jul 2025) EllapsedTime: 228.2 seconds RetCode: 0 Status: OK CheckDir: easierData.Rcheck Warnings: 0