Package: easierData Version: 1.15.0 Command: /home/biocbuild/bbs-3.22-bioc/R/bin/R CMD INSTALL easierData StartedAt: 2025-07-08 11:03:47 -0400 (Tue, 08 Jul 2025) EndedAt: 2025-07-08 11:04:13 -0400 (Tue, 08 Jul 2025) EllapsedTime: 25.2 seconds RetCode: 0 Status: OK