Package: ecoliLeucine Version: 1.49.0 Command: /home/biocbuild/bbs-3.22-bioc/R/bin/R CMD INSTALL ecoliLeucine StartedAt: 2025-07-10 10:57:28 -0400 (Thu, 10 Jul 2025) EndedAt: 2025-07-10 10:57:37 -0400 (Thu, 10 Jul 2025) EllapsedTime: 8.9 seconds RetCode: 0 Status: OK