Package: eoPredData Version: 1.5.0 Command: /home/biocbuild/bbs-3.23-bioc/R/bin/R CMD build --keep-empty-dirs --no-resave-data eoPredData StartedAt: 2025-11-04 11:17:41 -0500 (Tue, 04 Nov 2025) EndedAt: 2025-11-04 11:17:58 -0500 (Tue, 04 Nov 2025) EllapsedTime: 17.0 seconds RetCode: 0 Status: OK PackageFile: eoPredData_1.5.0.tar.gz PackageFileSize: 292.5 KiB