Package: eoPredData Version: 1.5.0 Command: /home/biocbuild/bbs-3.23-bioc/R/bin/R CMD INSTALL eoPredData StartedAt: 2025-11-04 10:57:02 -0500 (Tue, 04 Nov 2025) EndedAt: 2025-11-04 10:57:15 -0500 (Tue, 04 Nov 2025) EllapsedTime: 13.1 seconds RetCode: 0 Status: OK