Package: etec16s Version: 1.37.0 Command: /home/biocbuild/bbs-3.22-bioc/R/bin/R CMD build --keep-empty-dirs --no-resave-data etec16s StartedAt: 2025-07-15 11:16:29 -0400 (Tue, 15 Jul 2025) EndedAt: 2025-07-15 11:16:41 -0400 (Tue, 15 Jul 2025) EllapsedTime: 11.3 seconds RetCode: 0 Status: OK PackageFile: etec16s_1.37.0.tar.gz PackageFileSize: 309.1 KiB