Package: etec16s Version: 1.37.0 Command: /home/biocbuild/bbs-3.22-bioc/R/bin/R CMD INSTALL etec16s StartedAt: 2025-07-15 10:56:25 -0400 (Tue, 15 Jul 2025) EndedAt: 2025-07-15 10:56:29 -0400 (Tue, 15 Jul 2025) EllapsedTime: 4.9 seconds RetCode: 0 Status: OK