Package: ewceData Version: 1.19.0 Command: /home/biocbuild/bbs-3.23-bioc/R/bin/R CMD build --keep-empty-dirs --no-resave-data ewceData StartedAt: 2025-11-06 11:17:12 -0500 (Thu, 06 Nov 2025) EndedAt: 2025-11-06 11:18:01 -0500 (Thu, 06 Nov 2025) EllapsedTime: 48.8 seconds RetCode: 0 Status: OK PackageFile: ewceData_1.19.0.tar.gz PackageFileSize: 45.37 KiB