Package: ewceData Version: 1.17.0 Command: /home/biocbuild/bbs-3.22-bioc/R/bin/R CMD build --keep-empty-dirs --no-resave-data ewceData StartedAt: 2025-07-08 11:16:39 -0400 (Tue, 08 Jul 2025) EndedAt: 2025-07-08 11:17:28 -0400 (Tue, 08 Jul 2025) EllapsedTime: 48.9 seconds RetCode: 0 Status: OK PackageFile: ewceData_1.17.0.tar.gz PackageFileSize: 45.14 KiB