Package: fabiaData Version: 1.47.0 Command: /home/biocbuild/bbs-3.22-bioc/R/bin/R CMD INSTALL fabiaData StartedAt: 2025-07-10 10:56:00 -0400 (Thu, 10 Jul 2025) EndedAt: 2025-07-10 10:56:03 -0400 (Thu, 10 Jul 2025) EllapsedTime: 3.0 seconds RetCode: 0 Status: OK