Package: ffpeExampleData Version: 1.49.0 Command: /home/biocbuild/bbs-3.23-bioc/R/bin/R CMD check --install=check:ffpeExampleData.install-out.txt --library=/home/biocbuild/bbs-3.23-bioc/R/site-library --timings ffpeExampleData_1.49.0.tar.gz StartedAt: 2025-11-13 12:22:18 -0500 (Thu, 13 Nov 2025) EndedAt: 2025-11-13 12:25:10 -0500 (Thu, 13 Nov 2025) EllapsedTime: 172.3 seconds RetCode: 0 Status: OK CheckDir: ffpeExampleData.Rcheck Warnings: 0