Package: ffpeExampleData Version: 1.49.0 Command: /home/biocbuild/bbs-3.23-bioc/R/bin/R CMD INSTALL ffpeExampleData StartedAt: 2025-11-04 11:03:16 -0500 (Tue, 04 Nov 2025) EndedAt: 2025-11-04 11:03:44 -0500 (Tue, 04 Nov 2025) EllapsedTime: 28.6 seconds RetCode: 0 Status: OK