Package: ffpeExampleData Version: 1.47.0 Command: /home/biocbuild/bbs-3.22-bioc/R/bin/R CMD check --install=check:ffpeExampleData.install-out.txt --library=/home/biocbuild/bbs-3.22-bioc/R/site-library --timings ffpeExampleData_1.47.0.tar.gz StartedAt: 2025-07-10 12:20:03 -0400 (Thu, 10 Jul 2025) EndedAt: 2025-07-10 12:22:55 -0400 (Thu, 10 Jul 2025) EllapsedTime: 171.8 seconds RetCode: 0 Status: OK CheckDir: ffpeExampleData.Rcheck Warnings: 0