Package: ffpeExampleData Version: 1.47.0 Command: /home/biocbuild/bbs-3.22-bioc/R/bin/R CMD INSTALL ffpeExampleData StartedAt: 2025-07-08 11:02:59 -0400 (Tue, 08 Jul 2025) EndedAt: 2025-07-08 11:03:28 -0400 (Tue, 08 Jul 2025) EllapsedTime: 29.6 seconds RetCode: 0 Status: OK