Package: fibroEset Version: 1.51.0 Command: /home/biocbuild/bbs-3.22-bioc/R/bin/R CMD build --keep-empty-dirs --no-resave-data fibroEset StartedAt: 2025-07-10 11:17:44 -0400 (Thu, 10 Jul 2025) EndedAt: 2025-07-10 11:17:46 -0400 (Thu, 10 Jul 2025) EllapsedTime: 2.0 seconds RetCode: 0 Status: OK PackageFile: fibroEset_1.51.0.tar.gz PackageFileSize: 1.81 MiB