Package: fission Version: 1.29.0 Command: /home/biocbuild/bbs-3.22-bioc/R/bin/R CMD INSTALL fission StartedAt: 2025-07-10 10:58:47 -0400 (Thu, 10 Jul 2025) EndedAt: 2025-07-10 10:59:04 -0400 (Thu, 10 Jul 2025) EllapsedTime: 17.1 seconds RetCode: 0 Status: OK