Package: flowPloidyData Version: 1.35.0 Command: /home/biocbuild/bbs-3.22-bioc/R/bin/R CMD build --keep-empty-dirs --no-resave-data flowPloidyData StartedAt: 2025-07-10 11:18:15 -0400 (Thu, 10 Jul 2025) EndedAt: 2025-07-10 11:18:21 -0400 (Thu, 10 Jul 2025) EllapsedTime: 5.6 seconds RetCode: 0 Status: OK PackageFile: flowPloidyData_1.35.0.tar.gz PackageFileSize: 7.099 MiB